BEGIN:VCALENDAR
VERSION:2.0
PRODID:-//Artful3 Studio - ECPv6.15.17//NONSGML v1.0//EN
CALSCALE:GREGORIAN
METHOD:PUBLISH
X-WR-CALNAME:Artful3 Studio
X-ORIGINAL-URL:https://artful3studio.com
X-WR-CALDESC:Events for Artful3 Studio
REFRESH-INTERVAL;VALUE=DURATION:PT1H
X-Robots-Tag:noindex
X-PUBLISHED-TTL:PT1H
BEGIN:VTIMEZONE
TZID:America/Toronto
BEGIN:DAYLIGHT
TZOFFSETFROM:-0500
TZOFFSETTO:-0400
TZNAME:EDT
DTSTART:20250309T070000
END:DAYLIGHT
BEGIN:STANDARD
TZOFFSETFROM:-0400
TZOFFSETTO:-0500
TZNAME:EST
DTSTART:20251102T060000
END:STANDARD
BEGIN:DAYLIGHT
TZOFFSETFROM:-0500
TZOFFSETTO:-0400
TZNAME:EDT
DTSTART:20260308T070000
END:DAYLIGHT
BEGIN:STANDARD
TZOFFSETFROM:-0400
TZOFFSETTO:-0500
TZNAME:EST
DTSTART:20261101T060000
END:STANDARD
BEGIN:DAYLIGHT
TZOFFSETFROM:-0500
TZOFFSETTO:-0400
TZNAME:EDT
DTSTART:20270314T070000
END:DAYLIGHT
BEGIN:STANDARD
TZOFFSETFROM:-0400
TZOFFSETTO:-0500
TZNAME:EST
DTSTART:20271107T060000
END:STANDARD
END:VTIMEZONE
BEGIN:VEVENT
DTSTART;TZID=America/Toronto:20260202T180000
DTEND;TZID=America/Toronto:20260202T210000
DTSTAMP:20260420T054036
CREATED:20251224T045456Z
LAST-MODIFIED:20251230T005017Z
UID:8690-1770055200-1770066000@artful3studio.com
SUMMARY:Zentangle®-Inspired Art (ZIA) Class – Stained Glass Heart Nouveau©
DESCRIPTION:Note: Introduction to Zentangle provides the foundation for all of Laurel’s Zentangle and Zentangle-Inspired Art (ZIA) offerings and is an ideal starting point for new students. While completion of an introductory class is recommended\, students are welcome to register for any of Laurel’s classes regardless of prior experience. \nThe “Stained Glass Heart Nouveau©” concept was developed by Annie Reiser\, CZT® and originally presented to a group of Certified Zentangle Teachers® at an online “CZT Zoom Treff” workshop. The Stained Glass Heart Nouveau© class offered by Laurel Storey\, CZT at in-person sessions only in Windsor\, Ontario is inspired by Annie’s original design and shared with permission. \nIn this Zentangle-Inspired Art (ZIA) class taught by Laurel Storey\, CZT® (Certified Zentangle Teacher®)\, students will work on a Zentangle Zendala (4-5/8″/117mm round) paper tile tinted with pigment dyes in a colour scheme of their choice\, creating an intricate organic tangled design and using ink and shading techniques to achieve a stained glass effect. Required supplies will be provided and/or available for use in class.
URL:https://artful3studio.com/event/zentangle-inspired-art-zia-class-stained-glass-heart-nouveau/
LOCATION:Artful3 Studio Inc.\, #2-1156 Wyandotte Street East\, Windsor\, ON\, N9A 3K2\, Canada
CATEGORIES:Laurel Storey
ATTACH;FMTTYPE=image/png:https://artful3studio.com/wp-content/uploads/2025/12/Stained-Glass-Heart-Nouveau.png
ORGANIZER;CN="Laurel Storey":MAILTO:laurel@artful3studio.com
END:VEVENT
END:VCALENDAR