BEGIN:VCALENDAR
VERSION:2.0
PRODID:-//Artful3 Studio - ECPv6.15.17//NONSGML v1.0//EN
CALSCALE:GREGORIAN
METHOD:PUBLISH
X-WR-CALNAME:Artful3 Studio
X-ORIGINAL-URL:https://artful3studio.com
X-WR-CALDESC:Events for Artful3 Studio
REFRESH-INTERVAL;VALUE=DURATION:PT1H
X-Robots-Tag:noindex
X-PUBLISHED-TTL:PT1H
BEGIN:VTIMEZONE
TZID:America/Toronto
BEGIN:DAYLIGHT
TZOFFSETFROM:-0500
TZOFFSETTO:-0400
TZNAME:EDT
DTSTART:20240310T070000
END:DAYLIGHT
BEGIN:STANDARD
TZOFFSETFROM:-0400
TZOFFSETTO:-0500
TZNAME:EST
DTSTART:20241103T060000
END:STANDARD
BEGIN:DAYLIGHT
TZOFFSETFROM:-0500
TZOFFSETTO:-0400
TZNAME:EDT
DTSTART:20250309T070000
END:DAYLIGHT
BEGIN:STANDARD
TZOFFSETFROM:-0400
TZOFFSETTO:-0500
TZNAME:EST
DTSTART:20251102T060000
END:STANDARD
BEGIN:DAYLIGHT
TZOFFSETFROM:-0500
TZOFFSETTO:-0400
TZNAME:EDT
DTSTART:20260308T070000
END:DAYLIGHT
BEGIN:STANDARD
TZOFFSETFROM:-0400
TZOFFSETTO:-0500
TZNAME:EST
DTSTART:20261101T060000
END:STANDARD
END:VTIMEZONE
BEGIN:VEVENT
DTSTART;TZID=America/Toronto:20250324T180000
DTEND;TZID=America/Toronto:20250324T210000
DTSTAMP:20260420T071236
CREATED:20250110T184208Z
LAST-MODIFIED:20250121T155145Z
UID:7587-1742839200-1742850000@artful3studio.com
SUMMARY:Zentangle® Beyond Basics Class - Tanglenhancers
DESCRIPTION:Note: This class is open to anyone who has previously taken an Introduction to Zentangle class with Laurel Storey\, CZT® (Certified Zentangle Teacher®)\, or another Certified Zentangle Teacher®. \n“Beyond Basics – Tanglehancers” will be taught by Laurel Storey\, CZT® (Certified Zentangle Teacher®). Tanglenhancers bring additional life and visual appeal to designs by adding highlights\, dimension\, focus\, and drama. In this Beyond Basics class students will build on their Zentangle practice as they learn a variety of embellishment techniques which may then be applied to individual tangle patterns and incorporated into finished tiles. \nStudents should bring their “Introduction to Zentangle” kit to class. All other required tools and supplies will be provided. \nIMPORTANT: Students wishing to sign up for all four in-person “Beyond Basics” classes offered in March and April\, 2025 may do so for a reduced price by taking advantage of the Zentangle® Beyond Basics Class Bundle – In Person option.
URL:https://artful3studio.com/event/zentangle-beyond-basics-class-tanglenhancers/
LOCATION:Artful3 Studio Inc.\, #2-1156 Wyandotte Street East\, Windsor\, ON\, N9A 3K2\, Canada
CATEGORIES:Laurel Storey
ATTACH;FMTTYPE=image/png:https://artful3studio.com/wp-content/uploads/2025/01/Tanglenhancers.png
ORGANIZER;CN="Laurel Storey":MAILTO:laurel@artful3studio.com
END:VEVENT
BEGIN:VEVENT
DTSTART;TZID=America/Toronto:20250323T140000
DTEND;TZID=America/Toronto:20250323T160000
DTSTAMP:20260420T071236
CREATED:20250110T202251Z
LAST-MODIFIED:20250110T202251Z
UID:7611-1742738400-1742745600@artful3studio.com
SUMMARY:Ten Thousand Tangles Creative Community Tangle Club
DESCRIPTION:Join Laurel Storey\, CZT® (Certified Zentangle Teacher®) for a fun\, informal opportunity to socialize and tangle together! \nTen Thousand Tangles Creative Community Tangle Club (“Tangle Club” for short) gatherings are normally held once a month on a Sunday afternoon. These sessions are less structured than regular Zentangle® and Zentangle-Inspired Art classes\, and are open to all regardless of previous Zentangle experience. Participants are given the freedom to explore the month’s project or theme\, with direction and/or instructions provided by Laurel\, or work on their own individual tangle project if desired. \nAll required tools and supplies for the monthly project are normally provided by Laurel for use during the Tangle Club session. Participants may also wish to bring their own selection of preferred items including Pigma Micron pens\, Gelly Roll pens\, graphite pencil\, white charcoal pencil\, tortillions\, coloured pencils\, watercolours or watercolour pencils and brush\, etc.
URL:https://artful3studio.com/event/ten-thousand-tangles-creative-community-tangle-club-2/
LOCATION:Artful3 Studio Inc.\, #2-1156 Wyandotte Street East\, Windsor\, ON\, N9A 3K2\, Canada
CATEGORIES:Laurel Storey
ATTACH;FMTTYPE=image/png:https://artful3studio.com/wp-content/uploads/2025/01/Tangle-Club.png
ORGANIZER;CN="Laurel Storey":MAILTO:laurel@artful3studio.com
END:VEVENT
BEGIN:VEVENT
DTSTART;TZID=America/Toronto:20250322T110000
DTEND;TZID=America/Toronto:20250322T140000
DTSTAMP:20260420T071236
CREATED:20250104T033845Z
LAST-MODIFIED:20250104T033845Z
UID:7422-1742641200-1742652000@artful3studio.com
SUMMARY:Zentangle® Beyond Basics Class - Tanglenhancers - ONLINE
DESCRIPTION:Note: This class is open to anyone who has previously taken an Introduction to Zentangle class with Laurel Storey\, CZT® (Certified Zentangle Teacher®)\, or another Certified Zentangle Teacher®. \n“Beyond Basics – Tanglehancers” will be taught by Laurel Storey\, CZT® (Certified Zentangle Teacher®). Tanglenhancers bring additional life and visual appeal to designs by adding highlights\, dimension\, focus\, and drama. In this Beyond Basics class students will build on their Zentangle practice as they learn a variety of embellishment techniques which may then be applied to individual tangle patterns and incorporated into finished tiles. \nThis ONLINE class will be hosted on Zoom\, with login information sent via e-mail to registered students. Supplies are NOT included in the cost of online classes. Students will be provided with a full list of required supplies (including alternative options)\, and may opt to either provide their own or purchase supplies online from Laurel for local (Windsor\, Ontario) pickup \nIMPORTANT: Students wishing to sign up for all four online “Beyond Basics” classes offered in March\, 2025 may do so for a reduced price by taking advantage of the Zentangle® Beyond Basics Class Bundle – ONLINE option.
URL:https://artful3studio.com/event/zentangle-beyond-basics-class-tanglenhancers-online/
LOCATION:Online (Zoom)
CATEGORIES:Laurel Storey
ATTACH;FMTTYPE=image/png:https://artful3studio.com/wp-content/uploads/2025/01/Tanglenhancers.png
ORGANIZER;CN="Laurel Storey":MAILTO:laurel@artful3studio.com
END:VEVENT
BEGIN:VEVENT
DTSTART;TZID=America/Toronto:20250321T130000
DTEND;TZID=America/Toronto:20250321T160000
DTSTAMP:20260420T071236
CREATED:20250110T190044Z
LAST-MODIFIED:20250121T155115Z
UID:7599-1742562000-1742572800@artful3studio.com
SUMMARY:Zentangle® Beyond Basics Class - Shades of Grey
DESCRIPTION:Note: This class is open to anyone who has previously taken an Introduction to Zentangle class with Laurel Storey\, CZT® (Certified Zentangle Teacher®)\, or another Certified Zentangle Teacher®. \n“Beyond Basics – Shades of Grey” will be taught by Laurel Storey\, CZT® (Certified Zentangle Teacher®). Zentangle art really comes alive with that final touch of adding your “shades of grey.” This Beyond Basics class will look into all the paths you can take with your pencil once the tangling is done. Students will learn tangles that have unique shading options and see how simple\, subtle shading techniques can transform your work and totally change the integrity of your tile. This class will isolate the shading process and show students how a single graphite pencil has the ability to produce not just one colour but many. Students will learn to add tones from the barely there grey to the darkest charcoal and everything in between. \nStudents should bring their “Introduction to Zentangle” kit to class. All other required tools and supplies will be provided. \nIMPORTANT: Students wishing to sign up for all four in-person “Beyond Basics” classes offered in March and April\, 2025 may do so for a reduced price by taking advantage of the Zentangle® Beyond Basics Class Bundle – In Person option.
URL:https://artful3studio.com/event/zentangle-beyond-basics-class-shades-of-grey-2/
LOCATION:Artful3 Studio Inc.\, #2-1156 Wyandotte Street East\, Windsor\, ON\, N9A 3K2\, Canada
CATEGORIES:Laurel Storey
ATTACH;FMTTYPE=image/png:https://artful3studio.com/wp-content/uploads/2025/01/Shades-of-Grey.png
ORGANIZER;CN="Laurel Storey":MAILTO:laurel@artful3studio.com
END:VEVENT
BEGIN:VEVENT
DTSTART;TZID=America/Toronto:20250317T180000
DTEND;TZID=America/Toronto:20250317T210000
DTSTAMP:20260420T071236
CREATED:20250110T183952Z
LAST-MODIFIED:20250121T155046Z
UID:7584-1742234400-1742245200@artful3studio.com
SUMMARY:Zentangle® Beyond Basics Class - Shades of Grey
DESCRIPTION:Note: This class is open to anyone who has previously taken an Introduction to Zentangle class with Laurel Storey\, CZT® (Certified Zentangle Teacher®)\, or another Certified Zentangle Teacher®. \n“Beyond Basics – Shades of Grey” will be taught by Laurel Storey\, CZT® (Certified Zentangle Teacher®). Zentangle art really comes alive with that final touch of adding your “shades of grey.” This Beyond Basics class will look into all the paths you can take with your pencil once the tangling is done. Students will learn tangles that have unique shading options and see how simple\, subtle shading techniques can transform your work and totally change the integrity of your tile. This class will isolate the shading process and show students how a single graphite pencil has the ability to produce not just one colour but many. Students will learn to add tones from the barely there grey to the darkest charcoal and everything in between. \nStudents should bring their “Introduction to Zentangle” kit to class. All other required tools and supplies will be provided. \nIMPORTANT: Students wishing to sign up for all four in-person “Beyond Basics” classes offered in March and April\, 2025 may do so for a reduced price by taking advantage of the Zentangle® Beyond Basics Class Bundle – In Person option.
URL:https://artful3studio.com/event/zentangle-beyond-basics-class-shades-of-grey/
LOCATION:Artful3 Studio Inc.\, #2-1156 Wyandotte Street East\, Windsor\, ON\, N9A 3K2\, Canada
CATEGORIES:Laurel Storey
ATTACH;FMTTYPE=image/png:https://artful3studio.com/wp-content/uploads/2025/01/Shades-of-Grey.png
ORGANIZER;CN="Laurel Storey":MAILTO:laurel@artful3studio.com
END:VEVENT
BEGIN:VEVENT
DTSTART;TZID=America/Toronto:20250315T110000
DTEND;TZID=America/Toronto:20250315T140000
DTSTAMP:20260420T071236
CREATED:20250104T033706Z
LAST-MODIFIED:20250110T184901Z
UID:7419-1742036400-1742047200@artful3studio.com
SUMMARY:Zentangle® Beyond Basics Class - Shades of Grey - ONLINE
DESCRIPTION:Note: This class is open to anyone who has previously taken an Introduction to Zentangle class with Laurel Storey\, CZT® (Certified Zentangle Teacher®)\, or another Certified Zentangle Teacher®. \n“Beyond Basics – Shades of Grey” will be taught by Laurel Storey\, CZT® (Certified Zentangle Teacher®). Zentangle art really comes alive with that final touch of adding your “shades of grey.” This Beyond Basics class will look into all the paths you can take with your pencil once the tangling is done. Students will learn tangles that have unique shading options and see how simple\, subtle shading techniques can transform your work and totally change the integrity of your tile. This class will isolate the shading process and show students how a single graphite pencil has the ability to produce not just one colour but many. Students will learn to add tones from the barely there grey to the darkest charcoal and everything in between. \nThis ONLINE class will be hosted on Zoom\, with login information sent via e-mail to registered students. Supplies are NOT included in the cost of online classes. Students will be provided with a full list of required supplies (including alternative options)\, and may opt to either provide their own or purchase supplies online from Laurel for local (Windsor\, Ontario) pickup. \nIMPORTANT: Students wishing to sign up for all four online “Beyond Basics” classes offered in March and April\, 2025 may do so for a reduced price by taking advantage of the Zentangle® Beyond Basics Class Bundle – ONLINE option.
URL:https://artful3studio.com/event/zentangle-beyond-basics-class-shades-of-grey-online/
LOCATION:Online (Zoom)
CATEGORIES:Laurel Storey
ATTACH;FMTTYPE=image/png:https://artful3studio.com/wp-content/uploads/2025/01/Shades-of-Grey.png
ORGANIZER;CN="Laurel Storey":MAILTO:laurel@artful3studio.com
END:VEVENT
BEGIN:VEVENT
DTSTART;TZID=America/Toronto:20250308T110000
DTEND;TZID=America/Toronto:20250308T140000
DTSTAMP:20260420T071236
CREATED:20250104T033526Z
LAST-MODIFIED:20250104T033526Z
UID:7416-1741431600-1741442400@artful3studio.com
SUMMARY:Zentangle® Beyond Basics Class - String Theory - ONLINE
DESCRIPTION:Note: This class is open to anyone who has previously taken an Introduction to Zentangle class with Laurel Storey\, CZT® (Certified Zentangle Teacher®)\, or another Certified Zentangle Teacher®. \n“Beyond Basics – String Theory” will be taught by Laurel Storey\, CZT® (Certified Zentangle Teacher®)\, and talks about the theory behind an integral part of the Zentangle Method\, the string. Students will learn the techniques behind creating a string without fear or hesitation\, along with adding new tangle patterns to their repertoire\, and will leave having set up a solid foundation on which to build their Zentangle practice. \nThis ONLINE class will be hosted on Zoom\, with login information sent via e-mail to registered students. Supplies are NOT included in the cost of online classes. Students will be provided with a full list of required supplies (including alternative options)\, and may opt to either provide their own or purchase supplies online from Laurel for local (Windsor\, Ontario) pickup. \nIMPORTANT: Students wishing to sign up for all four online “Beyond Basics” classes offered in March\, 2025 may do so for a reduced price by taking advantage of the Zentangle® Beyond Basics Class Bundle – ONLINE option.
URL:https://artful3studio.com/event/zentangle-beyond-basics-class-string-theory-online/
LOCATION:Online (Zoom)
CATEGORIES:Laurel Storey
ATTACH;FMTTYPE=image/png:https://artful3studio.com/wp-content/uploads/2025/01/String-Theory.png
ORGANIZER;CN="Laurel Storey":MAILTO:laurel@artful3studio.com
END:VEVENT
BEGIN:VEVENT
DTSTART;TZID=America/Toronto:20250307T130000
DTEND;TZID=America/Toronto:20250307T160000
DTSTAMP:20260420T071236
CREATED:20250110T180559Z
LAST-MODIFIED:20250110T180559Z
UID:7564-1741352400-1741363200@artful3studio.com
SUMMARY:Introduction to Zentangle®
DESCRIPTION:Note: This class is a prerequisite to all other Zentangle classes. \n“Introduction to Zentangle” will be taught by Laurel Storey\, CZT® (Certified Zentangle Teacher®)\, and will provide a beginner with a background in the history of Zentangle\, introduce them to the basic steps of the method\, and expose them to associated vocabulary and tools used. Students will be immersed in learning tangle patterns as they create actual Zentangle paper “tiles” and will leave with a clear understanding that\, “Anything is possible one stroke at a time.”® \nAn “Introduction to Zentangle” supply kit will be provided to registered students when they arrive at class. Students may keep this kit to continue their Zentangle practice at home\, and should bring it to any future in-person advanced “next level” classes. \nIntroductory classes run for approximately 2.5 to three hours.
URL:https://artful3studio.com/event/introduction-to-zentangle-9/
LOCATION:Artful3 Studio Inc.\, #2-1156 Wyandotte Street East\, Windsor\, ON\, N9A 3K2\, Canada
CATEGORIES:Laurel Storey
ATTACH;FMTTYPE=image/png:https://artful3studio.com/wp-content/uploads/2025/01/Introduction-to-Zentangle.png
ORGANIZER;CN="Laurel Storey":MAILTO:laurel@artful3studio.com
END:VEVENT
BEGIN:VEVENT
DTSTART;TZID=America/Toronto:20250303T180000
DTEND;TZID=America/Toronto:20250303T210000
DTSTAMP:20260420T071236
CREATED:20250110T173543Z
LAST-MODIFIED:20250110T173543Z
UID:7549-1741024800-1741035600@artful3studio.com
SUMMARY:Introduction to Zentangle®
DESCRIPTION:Note: This class is a prerequisite to all other Zentangle classes. \n“Introduction to Zentangle” will be taught by Laurel Storey\, CZT® (Certified Zentangle Teacher®)\, and will provide a beginner with a background in the history of Zentangle\, introduce them to the basic steps of the method\, and expose them to associated vocabulary and tools used. Students will be immersed in learning tangle patterns as they create actual Zentangle paper “tiles” and will leave with a clear understanding that\, “Anything is possible one stroke at a time.”® \nAn “Introduction to Zentangle” supply kit will be provided to registered students when they arrive at class. Students may keep this kit to continue their Zentangle practice at home\, and should bring it to any future in-person advanced “next level” classes. \nIntroductory classes run for approximately 2.5 to three hours.
URL:https://artful3studio.com/event/introduction-to-zentangle-3/
LOCATION:Artful3 Studio Inc.\, #2-1156 Wyandotte Street East\, Windsor\, ON\, N9A 3K2\, Canada
CATEGORIES:Laurel Storey
ATTACH;FMTTYPE=image/png:https://artful3studio.com/wp-content/uploads/2025/01/Introduction-to-Zentangle.png
ORGANIZER;CN="Laurel Storey":MAILTO:laurel@artful3studio.com
END:VEVENT
BEGIN:VEVENT
DTSTART;TZID=America/Toronto:20250301T110000
DTEND;TZID=America/Toronto:20250301T140000
DTSTAMP:20260420T071236
CREATED:20250103T205357Z
LAST-MODIFIED:20250103T210511Z
UID:7399-1740826800-1740837600@artful3studio.com
SUMMARY:Introduction to Zentangle® (ONLINE)
DESCRIPTION:Note: This class is a prerequisite to all other Zentangle® classes. \n“Introduction to Zentangle” will be taught by Laurel Storey\, CZT® (Certified Zentangle Teacher®)\, and will provide a beginner with a background in the history of Zentangle\, introduce them to the basic steps of the method\, and expose them to associated vocabulary and tools used. Students will be immersed in learning tangle patterns as they create Zentangle paper “tiles” and will leave with a clear understanding that\, “Anything is possible one stroke at a time.”® \nONLINE classes will be hosted on Zoom on selected Saturdays in 2025 starting at 11:00 a.m. Eastern Time\, with login information sent via e-mail to registered students. Supplies are NOT included in the cost of online classes. Students will be provided with a full list of required supplies (including alternative options)\, and may opt to either provide their own or purchase supplies online from Laurel Storey\, CZT® for local (Windsor\, Ontario) pickup. \nIntroductory classes run for approximately 2.5 to three hours.
URL:https://artful3studio.com/event/introduction-to-zentangle-online-3/
LOCATION:Online (Zoom)
CATEGORIES:Laurel Storey
ATTACH;FMTTYPE=image/png:https://artful3studio.com/wp-content/uploads/2025/01/Introduction-to-Zentangle.png
ORGANIZER;CN="Laurel Storey":MAILTO:laurel@artful3studio.com
END:VEVENT
BEGIN:VEVENT
DTSTART;TZID=America/Toronto:20250217T093000
DTEND;TZID=America/Toronto:20250217T143000
DTSTAMP:20260420T071236
CREATED:20250213T005715Z
LAST-MODIFIED:20250213T005715Z
UID:7758-1739784600-1739802600@artful3studio.com
SUMMARY:Family Day Banner
DESCRIPTION:Join Laurel Storey\, CZT® (Certified Zentangle Teacher®) and create a one-of-a-kind Zentangle®-Inspired Art (ZIA) Family Banner. No experience necessary! Laurel will provide you with a selection of tangle pattern examples and instructions\, and supplies suitable for creators of all ages will be available for use at the studio. \nDrop in on Monday\, February 17th anytime between 9:30 a.m. and 2:30 p.m. There is no charge for this activity\, and no pre-registration is required.
URL:https://artful3studio.com/event/family-day-banner/
LOCATION:Artful3 Studio Inc.\, #2-1156 Wyandotte Street East\, Windsor\, ON\, N9A 3K2\, Canada
CATEGORIES:Laurel Storey
ATTACH;FMTTYPE=image/png:https://artful3studio.com/wp-content/uploads/2025/02/Family-Day.png
ORGANIZER;CN="Laurel Storey":MAILTO:laurel@artful3studio.com
END:VEVENT
BEGIN:VEVENT
DTSTART;TZID=America/Toronto:20250209T140000
DTEND;TZID=America/Toronto:20250209T160000
DTSTAMP:20260420T071236
CREATED:20250110T202018Z
LAST-MODIFIED:20250121T154810Z
UID:7380-1739109600-1739116800@artful3studio.com
SUMMARY:Ten Thousand Tangles Creative Community Tangle Club
DESCRIPTION:Join Laurel Storey\, CZT® (Certified Zentangle Teacher®) for a fun\, informal opportunity to socialize and tangle together! \nTen Thousand Tangles Creative Community Tangle Club (“Tangle Club” for short) gatherings are normally held once a month on a Sunday afternoon. These sessions are less structured than regular Zentangle® and Zentangle-Inspired Art classes\, and are open to all regardless of previous Zentangle experience. Participants are given the freedom to explore the month’s project or theme\, with direction and/or instructions provided by Laurel\, or work on their own individual tangle project if desired. \nAll required tools and supplies for the monthly project are normally provided by Laurel for use during the Tangle Club session. Participants may also wish to bring their own selection of preferred items including Pigma Micron pens\, Gelly Roll pens\, graphite pencil\, white charcoal pencil\, tortillions\, coloured pencils\, watercolours or watercolour pencils and brush\, etc. \nBONUS! Students wishing to sign up for all 11 Tangle Club sessions in 2025 at once may do so for the price of 10. Please select the “Tangle Club Bundle” option at the bottom of the dropdown menu on Laurel’s online storefront.
URL:https://artful3studio.com/event/ten-thousand-tangles-creative-community-tangle-club/
LOCATION:Artful3 Studio Inc.\, #2-1156 Wyandotte Street East\, Windsor\, ON\, N9A 3K2\, Canada
CATEGORIES:Laurel Storey
ATTACH;FMTTYPE=image/png:https://artful3studio.com/wp-content/uploads/2025/01/Tangle-Club.png
ORGANIZER;CN="Laurel Storey":MAILTO:laurel@artful3studio.com
END:VEVENT
BEGIN:VEVENT
DTSTART;TZID=America/Toronto:20250208T110000
DTEND;TZID=America/Toronto:20250208T140000
DTSTAMP:20260420T071236
CREATED:20250102T014056Z
LAST-MODIFIED:20250103T205129Z
UID:7377-1739012400-1739023200@artful3studio.com
SUMMARY:Introduction to Zentangle® (ONLINE)
DESCRIPTION:Note: This class is a prerequisite to all other Zentangle® classes. \n“Introduction to Zentangle” will be taught by Laurel Storey\, CZT® (Certified Zentangle Teacher®)\, and will provide a beginner with a background in the history of Zentangle\, introduce them to the basic steps of the method\, and expose them to associated vocabulary and tools used. Students will be immersed in learning tangle patterns as they create Zentangle paper “tiles” and will leave with a clear understanding that\, “Anything is possible one stroke at a time.”® \nONLINE classes will be hosted on Zoom on selected Saturdays in 2025 starting at 11:00 a.m. Eastern Time\, with login information sent via e-mail to registered students. Supplies are NOT included in the cost of online classes. Students will be provided with a full list of required supplies (including alternative options)\, and may opt to either provide their own or purchase supplies online from Laurel Storey\, CZT® for local (Windsor\, Ontario) pickup. \nIntroductory classes run for approximately 2.5 to three hours.
URL:https://artful3studio.com/event/introduction-to-zentangle-online-2/
LOCATION:Online (Zoom)
CATEGORIES:Laurel Storey
ATTACH;FMTTYPE=image/png:https://artful3studio.com/wp-content/uploads/2025/01/Introduction-to-Zentangle.png
ORGANIZER;CN="Laurel Storey":MAILTO:laurel@artful3studio.com
END:VEVENT
BEGIN:VEVENT
DTSTART;TZID=America/Toronto:20250207T130000
DTEND;TZID=America/Toronto:20250207T160000
DTSTAMP:20260420T071236
CREATED:20250101T211955Z
LAST-MODIFIED:20250110T180403Z
UID:7311-1738933200-1738944000@artful3studio.com
SUMMARY:Introduction to Zentangle®
DESCRIPTION:Note: This class is a prerequisite to all other Zentangle classes. \n“Introduction to Zentangle” will be taught by Laurel Storey\, CZT® (Certified Zentangle Teacher®)\, and will provide a beginner with a background in the history of Zentangle\, introduce them to the basic steps of the method\, and expose them to associated vocabulary and tools used. Students will be immersed in learning tangle patterns as they create actual Zentangle paper “tiles” and will leave with a clear understanding that\, “Anything is possible one stroke at a time.”® \nAn “Introduction to Zentangle” supply kit will be provided to registered students when they arrive at class. Students may keep this kit to continue their Zentangle practice at home\, and should bring it to any future in-person advanced “next level” classes. \nIntroductory classes run for approximately 2.5 to three hours.
URL:https://artful3studio.com/event/introduction-to-zentangle-2/
LOCATION:Artful3 Studio Inc.\, #2-1156 Wyandotte Street East\, Windsor\, ON\, N9A 3K2\, Canada
CATEGORIES:Laurel Storey
ATTACH;FMTTYPE=image/png:https://artful3studio.com/wp-content/uploads/2025/01/Introduction-to-Zentangle.png
ORGANIZER;CN="Laurel Storey":MAILTO:laurel@artful3studio.com
END:VEVENT
BEGIN:VEVENT
DTSTART;TZID=America/Toronto:20250203T180000
DTEND;TZID=America/Toronto:20250203T210000
DTSTAMP:20260420T071236
CREATED:20250101T205013Z
LAST-MODIFIED:20250110T173419Z
UID:7303-1738605600-1738616400@artful3studio.com
SUMMARY:Introduction to Zentangle®
DESCRIPTION:Note: This class is a prerequisite to all other Zentangle classes. \n“Introduction to Zentangle” will be taught by Laurel Storey\, CZT® (Certified Zentangle Teacher®)\, and will provide a beginner with a background in the history of Zentangle\, introduce them to the basic steps of the method\, and expose them to associated vocabulary and tools used. Students will be immersed in learning tangle patterns as they create actual Zentangle paper “tiles” and will leave with a clear understanding that\, “Anything is possible one stroke at a time.”® \nAn “Introduction to Zentangle” supply kit will be provided to registered students when they arrive at class. Students may keep this kit to continue their Zentangle practice at home\, and should bring it to any future in-person advanced “next level” classes. \nIntroductory classes run for approximately 2.5 to three hours.
URL:https://artful3studio.com/event/introduction-to-zentangle/
LOCATION:Artful3 Studio Inc.\, #2-1156 Wyandotte Street East\, Windsor\, ON\, N9A 3K2\, Canada
CATEGORIES:Laurel Storey
ATTACH;FMTTYPE=image/png:https://artful3studio.com/wp-content/uploads/2025/01/Introduction-to-Zentangle.png
ORGANIZER;CN="Laurel Storey":MAILTO:laurel@artful3studio.com
END:VEVENT
BEGIN:VEVENT
DTSTART;TZID=America/Toronto:20250118T110000
DTEND;TZID=America/Toronto:20250118T140000
DTSTAMP:20260420T071236
CREATED:20250102T011515Z
LAST-MODIFIED:20250103T205221Z
UID:7374-1737198000-1737208800@artful3studio.com
SUMMARY:Introduction to Zentangle® (ONLINE)
DESCRIPTION:Note: This class is a prerequisite to all other Zentangle® classes. \n“Introduction to Zentangle” will be taught by Laurel Storey\, CZT® (Certified Zentangle Teacher®)\, and will provide a beginner with a background in the history of Zentangle\, introduce them to the basic steps of the method\, and expose them to associated vocabulary and tools used. Students will be immersed in learning tangle patterns as they create Zentangle paper “tiles” and will leave with a clear understanding that\, “Anything is possible one stroke at a time.”® \nONLINE classes will be hosted on Zoom on selected Saturdays in 2025 starting at 11:00 a.m. Eastern Time\, with login information sent via e-mail to registered students. Supplies are NOT included in the cost of online classes. Students will be provided with a full list of required supplies (including alternative options)\, and may opt to either provide their own or purchase supplies online from Laurel Storey\, CZT® for local (Windsor\, Ontario) pickup. \nIntroductory classes run for approximately 2.5 to three hours.
URL:https://artful3studio.com/event/introduction-to-zentangle-online/
LOCATION:Online (Zoom)
CATEGORIES:Laurel Storey
ATTACH;FMTTYPE=image/png:https://artful3studio.com/wp-content/uploads/2025/01/Introduction-to-Zentangle.png
ORGANIZER;CN="Laurel Storey":MAILTO:laurel@artful3studio.com
END:VEVENT
END:VCALENDAR