BEGIN:VCALENDAR
VERSION:2.0
PRODID:-//Artful3 Studio - ECPv6.15.17//NONSGML v1.0//EN
CALSCALE:GREGORIAN
METHOD:PUBLISH
X-ORIGINAL-URL:https://artful3studio.com
X-WR-CALDESC:Events for Artful3 Studio
REFRESH-INTERVAL;VALUE=DURATION:PT1H
X-Robots-Tag:noindex
X-PUBLISHED-TTL:PT1H
BEGIN:VTIMEZONE
TZID:America/Toronto
BEGIN:DAYLIGHT
TZOFFSETFROM:-0500
TZOFFSETTO:-0400
TZNAME:EDT
DTSTART:20250309T070000
END:DAYLIGHT
BEGIN:STANDARD
TZOFFSETFROM:-0400
TZOFFSETTO:-0500
TZNAME:EST
DTSTART:20251102T060000
END:STANDARD
BEGIN:DAYLIGHT
TZOFFSETFROM:-0500
TZOFFSETTO:-0400
TZNAME:EDT
DTSTART:20260308T070000
END:DAYLIGHT
BEGIN:STANDARD
TZOFFSETFROM:-0400
TZOFFSETTO:-0500
TZNAME:EST
DTSTART:20261101T060000
END:STANDARD
BEGIN:DAYLIGHT
TZOFFSETFROM:-0500
TZOFFSETTO:-0400
TZNAME:EDT
DTSTART:20270314T070000
END:DAYLIGHT
BEGIN:STANDARD
TZOFFSETFROM:-0400
TZOFFSETTO:-0500
TZNAME:EST
DTSTART:20271107T060000
END:STANDARD
END:VTIMEZONE
BEGIN:VEVENT
DTSTART;TZID=America/Toronto:20260311T140000
DTEND;TZID=America/Toronto:20260311T163000
DTSTAMP:20260420T054720
CREATED:20260220T155941Z
LAST-MODIFIED:20260220T155941Z
UID:8845-1773237600-1773246600@artful3studio.com
SUMMARY:Mini Abstracts
DESCRIPTION:Unleash your creativity in the Mini Abstracts class! Over 2.5 hours\, you’ll craft 8 unique mini artworks using an array of techniques and mediums. Elevate your favorite piece with a mat\, ready for framing. Join us for a fun and inspiring artistic journey! \nAll materials are provided. \nClass is held at Artful3 Studio \n2-1156 Wyandotte Street E. \nWindsor \nFree street parking is available. \nPlease register at \nhttps://lhroriginalsartwork.square.site/product/mini-abstracts-class/100?cp=true&sa=false&sbp=false&q=false&category_id=FC3G63RK54OWWQKSW7IG5ZJ7 \nIf you prefer\, register by email and Etransfer to \nlhroriginalsart@gmail.com \nSee you in class!
URL:https://artful3studio.com/event/mini-abstracts/
LOCATION:Artful3 Studio Inc.\, #2-1156 Wyandotte Street East\, Windsor\, ON\, N9A 3K2\, Canada
CATEGORIES:Leslie Harper-Reid
ATTACH;FMTTYPE=image/jpeg:https://artful3studio.com/wp-content/uploads/2026/02/Copy-of-Copy-of-Working-in-Black-and-White-1.jpg
ORGANIZER;CN="Leslie Harper-Reid":MAILTO:leslie@artful3studio.com
END:VEVENT
BEGIN:VEVENT
DTSTART;TZID=America/Toronto:20260311T180000
DTEND;TZID=America/Toronto:20260311T203000
DTSTAMP:20260420T054720
CREATED:20250108T022319Z
LAST-MODIFIED:20260220T160040Z
UID:7465-1773252000-1773261000@artful3studio.com
SUMMARY:Mini Abstracts
DESCRIPTION:Unleash your creativity in the Mini Abstracts class! Over 2.5 hours\, you’ll craft 8 unique mini artworks using an array of techniques and mediums. Elevate your favorite piece with a mat\, ready for framing. Join us for a fun and inspiring artistic journey! \nAll materials are provided. \nClass is held at Artful3 Studio \n2-1156 Wyandotte Street E. \nWindsor \nFree street parking is available. \nPlease register at \nhttps://lhroriginalsartwork.square.site/product/mini-abstracts-class/100?cp=true&sa=false&sbp=false&q=false&category_id=FC3G63RK54OWWQKSW7IG5ZJ7 \nIf you prefer\, register by email and Etransfer to \nlhroriginalsart@gmail.com \nSee you in class!
URL:https://artful3studio.com/event/7465/
LOCATION:Artful3 Studio Inc.\, #2-1156 Wyandotte Street East\, Windsor\, ON\, N9A 3K2\, Canada
CATEGORIES:Leslie Harper-Reid
ATTACH;FMTTYPE=image/jpeg:https://artful3studio.com/wp-content/uploads/2026/02/Copy-of-Copy-of-Working-in-Black-and-White-1.jpg
ORGANIZER;CN="Leslie Harper-Reid":MAILTO:leslie@artful3studio.com
END:VEVENT
END:VCALENDAR