BEGIN:VCALENDAR
VERSION:2.0
PRODID:-//Artful3 Studio - ECPv6.15.17//NONSGML v1.0//EN
CALSCALE:GREGORIAN
METHOD:PUBLISH
X-ORIGINAL-URL:https://artful3studio.com
X-WR-CALDESC:Events for Artful3 Studio
REFRESH-INTERVAL;VALUE=DURATION:PT1H
X-Robots-Tag:noindex
X-PUBLISHED-TTL:PT1H
BEGIN:VTIMEZONE
TZID:America/Toronto
BEGIN:DAYLIGHT
TZOFFSETFROM:-0500
TZOFFSETTO:-0400
TZNAME:EDT
DTSTART:20250309T070000
END:DAYLIGHT
BEGIN:STANDARD
TZOFFSETFROM:-0400
TZOFFSETTO:-0500
TZNAME:EST
DTSTART:20251102T060000
END:STANDARD
BEGIN:DAYLIGHT
TZOFFSETFROM:-0500
TZOFFSETTO:-0400
TZNAME:EDT
DTSTART:20260308T070000
END:DAYLIGHT
BEGIN:STANDARD
TZOFFSETFROM:-0400
TZOFFSETTO:-0500
TZNAME:EST
DTSTART:20261101T060000
END:STANDARD
BEGIN:DAYLIGHT
TZOFFSETFROM:-0500
TZOFFSETTO:-0400
TZNAME:EDT
DTSTART:20270314T070000
END:DAYLIGHT
BEGIN:STANDARD
TZOFFSETFROM:-0400
TZOFFSETTO:-0500
TZNAME:EST
DTSTART:20271107T060000
END:STANDARD
END:VTIMEZONE
BEGIN:VEVENT
DTSTART;TZID=America/Toronto:20260324T180000
DTEND;TZID=America/Toronto:20260324T200000
DTSTAMP:20260420T054736
CREATED:20251208T015215Z
LAST-MODIFIED:20251208T015215Z
UID:8494-1774375200-1774382400@artful3studio.com
SUMMARY:Collagraphs on the Gel Plate
DESCRIPTION:Discover the art of collagraph printmaking on the gel plate in this hands-on class! Learn how to design and create your own printing plate while exploring how textures can bring your images to life. Experiment with various materials and techniques to produce unique\, layered prints full of depth and character. Perfect for artists of all skill levels\, this class is an exciting way to expand your creative horizons. \nAll materials are provided. \nClass is held at \n2-1156 Wyandotte Street E. \nWindsor\, ON \nAdults Ages 14+ $40 \nSenior 60+ $30 \nAges 8-13 $20 \nReigster online \nhttps://lhroriginalsartwork.square.site/product/collagraphs-on-the-gel-plate/173?cp=true&sa=false&sbp=false&q=false&category_id=TNV4TFBB6JKXFZBT43OY2Q3C \nOr email and Etransfer \nlhroriginalsart@gmail.com \nSee you in class!
URL:https://artful3studio.com/event/collagraphs-on-the-gel-plate/
LOCATION:Artful3 Studio Inc.\, #2-1156 Wyandotte Street East\, Windsor\, ON\, N9A 3K2\, Canada
CATEGORIES:Leslie Harper-Reid
ATTACH;FMTTYPE=image/jpeg:https://artful3studio.com/wp-content/uploads/2025/05/Collagraphs-on-the-Gel-Plate-1.jpg
ORGANIZER;CN="Leslie Harper-Reid":MAILTO:leslie@artful3studio.com
END:VEVENT
BEGIN:VEVENT
DTSTART;TZID=America/Toronto:20260324T180000
DTEND;TZID=America/Toronto:20260324T203000
DTSTAMP:20260420T054736
CREATED:20250526T195605Z
LAST-MODIFIED:20251208T015018Z
UID:8059-1774375200-1774384200@artful3studio.com
SUMMARY:Collagraphs on the Gel Plate
DESCRIPTION:Discover the art of collagraph printmaking on the gel plate in this hands-on class! Learn how to design and create your own printing plate while exploring how textures can bring your images to life. Experiment with various materials and techniques to produce unique\, layered prints full of depth and character. Perfect for artists of all skill levels\, this class is an exciting way to expand your creative horizons. \nAll materials are provided. \nClass is held at \n2-1156 Wyandotte Street E. \nWindsor\, ON \nAdults Ages 14+ $40 \nSenior 60+ $30 \nAges 8-13 $20 \nReigster online \nhttps://lhroriginalsartwork.square.site/product/collagraphs-on-the-gel-plate/173?cp=true&sa=false&sbp=false&q=false&category_id=TNV4TFBB6JKXFZBT43OY2Q3C \nOr email and Etransfer \nlhroriginalsart@gmail.com \nSee you in class!
URL:https://artful3studio.com/event/collagraphs-on-the-gel-plate-2/
LOCATION:Artful3 Studio Inc.\, #2-1156 Wyandotte Street East\, Windsor\, ON\, N9A 3K2\, Canada
CATEGORIES:Leslie Harper-Reid
ATTACH;FMTTYPE=image/jpeg:https://artful3studio.com/wp-content/uploads/2025/05/Collagraphs-on-the-Gel-Plate-1.jpg
ORGANIZER;CN="Leslie Harper-Reid":MAILTO:leslie@artful3studio.com
END:VEVENT
END:VCALENDAR